BEGIN:VCALENDAR
VERSION:2.0
CALSCALE:GREGORIAN
PRODID:-//Diputació de Barcelona//DibaCMS//EN
BEGIN:VEVENT
UID:7642
DTSTAMP:20260421T140418
DTSTART:20211031T113000
DTEND:20211031T130000
SUMMARY:Taller de pintura corporal
LOCATION:08278  Talamanca
METHOD:PUBLISH
X-WR-CALNAME:talamanca@talamanca.cat
X-WR-TIMEZONE:Europe/Madrid
DESCRIPTION:
URI:https://www.talamanca.cat/actualitat/agenda/taller-de-pintura-corporal.html
CLASS:PUBLIC
END:VEVENT
END:VCALENDAR
