BEGIN:VCALENDAR
VERSION:2.0
CALSCALE:GREGORIAN
PRODID:-//Diputació de Barcelona//DibaCMS//EN
BEGIN:VEVENT
UID:8211
DTSTAMP:20260424T160235
DTSTART:20260425T100000
DTEND:20260425T140000
SUMMARY:SANT JORDI A TALAMANCA
LOCATION:
METHOD:PUBLISH
X-WR-CALNAME:talamanca@talamanca.cat
X-WR-TIMEZONE:Europe/Madrid
DESCRIPTION:
URI:https://www.talamanca.cat/actualitat/agenda/8211-sant-jordi-a-talamanca.html
CLASS:PUBLIC
END:VEVENT
END:VCALENDAR
